BEGIN:VCALENDAR
VERSION:2.0
PRODID:-//Cave Creek Guide - ECPv6.15.20//NONSGML v1.0//EN
CALSCALE:GREGORIAN
METHOD:PUBLISH
X-WR-CALNAME:Cave Creek Guide
X-ORIGINAL-URL:https://cavecreekguide.com
X-WR-CALDESC:Events for Cave Creek Guide
REFRESH-INTERVAL;VALUE=DURATION:PT1H
X-Robots-Tag:noindex
X-PUBLISHED-TTL:PT1H
BEGIN:VTIMEZONE
TZID:America/Phoenix
BEGIN:STANDARD
TZOFFSETFROM:-0700
TZOFFSETTO:-0700
TZNAME:MST
DTSTART:20240101T000000
END:STANDARD
END:VTIMEZONE
BEGIN:VEVENT
DTSTART;TZID=America/Phoenix:20250302T173000
DTEND;TZID=America/Phoenix:20250302T200000
DTSTAMP:20260422T052140
CREATED:20250220T032225Z
LAST-MODIFIED:20250220T032225Z
UID:10000130-1740936600-1740945600@cavecreekguide.com
SUMMARY:Silver Spur Therapeutic Riding Center Fundraiser
DESCRIPTION:Harold’s Cave Creek Corral \nDinner & 2 Drinks Included \nPurchase tickets at the door or at silverspurridingcenter.org \n$250 per person \nWith $1000  Sponsorships (of Horse\, Rider or Facilities) Receive 2 Tickets \nQuestions?  Contact@silverspurridingcenter.org \nSilver Spur Therapeutic Riding Center offers equine-assisted services to children and young adults with physical\, developmental\, intellectual or emotional challenges\, in a unique and special environment tailored ti individual participants needs. \n 
URL:https://cavecreekguide.com/event/silver-spur-therapeutic-riding-center-fundraiser/
END:VEVENT
END:VCALENDAR