BEGIN:VCALENDAR
VERSION:2.0
PRODID:-//Cave Creek Guide - ECPv6.15.20//NONSGML v1.0//EN
CALSCALE:GREGORIAN
METHOD:PUBLISH
X-WR-CALNAME:Cave Creek Guide
X-ORIGINAL-URL:https://cavecreekguide.com
X-WR-CALDESC:Events for Cave Creek Guide
REFRESH-INTERVAL;VALUE=DURATION:PT1H
X-Robots-Tag:noindex
X-PUBLISHED-TTL:PT1H
BEGIN:VTIMEZONE
TZID:America/Phoenix
BEGIN:STANDARD
TZOFFSETFROM:-0700
TZOFFSETTO:-0700
TZNAME:MST
DTSTART:20240101T000000
END:STANDARD
END:VTIMEZONE
BEGIN:VEVENT
DTSTART;TZID=America/Phoenix:20251004T090000
DTEND;TZID=America/Phoenix:20251004T143000
DTSTAMP:20260421T183315
CREATED:20250805T001943Z
LAST-MODIFIED:20250805T001943Z
UID:10000201-1759568400-1759588200@cavecreekguide.com
SUMMARY:Cave Creek Car Show & Cruise
DESCRIPTION:Here it is !!! Cave Creek Car Show and Cruise October 4th and 19 participating businesses to hang out at \, Frontier Town will be headquarters with Live Music\, Entertainment\, Playboy Reunion in town\, so we’ll have some Bunnies presenting Awards and it’s FREE!!!!!\n\nThank you Kent Schweiss and Cave Creek for helping so much to make this happen.  All welcome\,anything on wheels \, we even have a Tractor Club\,
URL:https://cavecreekguide.com/event/cave-creek-car-show-cruise/
LOCATION:Frontier Town\, 6245 E Cave Creek Rd\, Cave Creek\, 85331
ATTACH;FMTTYPE=image/jpeg:https://cavecreekguide.com/wp-content/uploads/2025/08/Car-show.jpg
END:VEVENT
BEGIN:VEVENT
DTSTART;TZID=America/Phoenix:20251004T100000
DTEND;TZID=America/Phoenix:20251004T120000
DTSTAMP:20260421T183315
CREATED:20250917T035738Z
LAST-MODIFIED:20250917T035959Z
UID:10000353-1759572000-1759579200@cavecreekguide.com
SUMMARY:Finer Arts Mimosas & Muffins
DESCRIPTION:The first Saturday of every month (even summer) we host an Art Affaire\, no admission charge\, from 10am til noon.  Mimosas & muffins will be served.  Stop by to see the fabulous art created by over 50 LOCAL artists.  Most of our artists will be there every event to speak with visitors and explain their artwork.
URL:https://cavecreekguide.com/event/finer-arts-mimosas-muffins/2025-10-04/
LOCATION:Finer Arts Gallery\, 6137 E Cave Creek Rd\, Cave Creek\, AZ\, 85331
ATTACH;FMTTYPE=image/jpeg:https://cavecreekguide.com/wp-content/uploads/2025/04/Art-Affaire2.jpg
END:VEVENT
BEGIN:VEVENT
DTSTART;TZID=America/Phoenix:20251004T110000
DTEND;TZID=America/Phoenix:20251004T150000
DTSTAMP:20260421T183315
CREATED:20210317T154103Z
LAST-MODIFIED:20251003T030122Z
UID:10000044-1759575600-1759590000@cavecreekguide.com
SUMMARY:Arizona Gunfighters at Hansen's Cowboy BBQ - Frontier Town
DESCRIPTION:For almost 30 years Arizona Gunfighters have been taking people on journeys back in time.  Back to the days of the “wild west”\, who among us has not heard the names of “Wild Bill” Hickok\, “Doc” Holliday\, Wyatt Earp and many more.  So join us for a reenactment of the gunfight at the OK Corral in Tombstone. \nShow times: 11am & 2pm
URL:https://cavecreekguide.com/event/arizona-gunfighters-at-frontier-town/
LOCATION:Frontier Town\, 6245 E Cave Creek Rd\, Cave Creek\, 85331
ATTACH;FMTTYPE=image/jpeg:https://cavecreekguide.com/wp-content/uploads/2021/03/azgunfighters.jpg
END:VEVENT
END:VCALENDAR