BEGIN:VCALENDAR
VERSION:2.0
PRODID:-//Cave Creek Guide - ECPv6.15.20//NONSGML v1.0//EN
CALSCALE:GREGORIAN
METHOD:PUBLISH
X-ORIGINAL-URL:https://cavecreekguide.com
X-WR-CALDESC:Events for Cave Creek Guide
REFRESH-INTERVAL;VALUE=DURATION:PT1H
X-Robots-Tag:noindex
X-PUBLISHED-TTL:PT1H
BEGIN:VTIMEZONE
TZID:America/Phoenix
BEGIN:STANDARD
TZOFFSETFROM:-0700
TZOFFSETTO:-0700
TZNAME:MST
DTSTART:20240101T000000
END:STANDARD
END:VTIMEZONE
BEGIN:VEVENT
DTSTART;TZID=America/Phoenix:20251023T170000
DTEND;TZID=America/Phoenix:20251023T210000
DTSTAMP:20260421T183706
CREATED:20230504T142627Z
LAST-MODIFIED:20250702T214158Z
UID:10000196-1761238800-1761253200@cavecreekguide.com
SUMMARY:Taste of Cave Creek
DESCRIPTION:Are you the biggest foodie around? Do you love trying different types of food\, especially local food?  Then don’t miss one of the most delightful—and delicious— events in Cave Creek\, the Taste of Cave Creek. It’s where you can sample the very best food in Cave Creek in a fun\, family-friendly environment in the open air setting of Stagecoach Village. \n25+ local restaurants  *  Craft beer garden  *  Live music \nAdmission $15\nFood samples $5-$7 \nWednesday & Thursday 5-9pm
URL:https://cavecreekguide.com/event/taste-of-cave-creek/2025-10-23/
LOCATION:Stagecoach Village\, 7100 East Cave Creek Road\, Cave Creek\, AZ\, 85331\, United States
END:VEVENT
END:VCALENDAR