BEGIN:VCALENDAR
VERSION:2.0
PRODID:-//Cave Creek Guide - ECPv6.15.20//NONSGML v1.0//EN
CALSCALE:GREGORIAN
METHOD:PUBLISH
X-ORIGINAL-URL:https://cavecreekguide.com
X-WR-CALDESC:Events for Cave Creek Guide
REFRESH-INTERVAL;VALUE=DURATION:PT1H
X-Robots-Tag:noindex
X-PUBLISHED-TTL:PT1H
BEGIN:VTIMEZONE
TZID:America/Phoenix
BEGIN:STANDARD
TZOFFSETFROM:-0700
TZOFFSETTO:-0700
TZNAME:MST
DTSTART:20240101T000000
END:STANDARD
END:VTIMEZONE
BEGIN:VEVENT
DTSTART;TZID=America/Phoenix:20251025T170000
DTEND;TZID=America/Phoenix:20251026T020000
DTSTAMP:20260421T183705
CREATED:20230823T042013Z
LAST-MODIFIED:20250718T034020Z
UID:10000100-1761411600-1761444000@cavecreekguide.com
SUMMARY:Cave Creek Wicked
DESCRIPTION:Adult fun at night.  Town wide bar crawl.
URL:https://cavecreekguide.com/event/cave-creek-wicked/
ATTACH;FMTTYPE=image/jpeg:https://cavecreekguide.com/wp-content/uploads/2023/08/cave-creek-wicked.jpg
END:VEVENT
END:VCALENDAR