BEGIN:VCALENDAR
VERSION:2.0
PRODID:-//Cave Creek Guide - ECPv6.15.20//NONSGML v1.0//EN
CALSCALE:GREGORIAN
METHOD:PUBLISH
X-WR-CALNAME:Cave Creek Guide
X-ORIGINAL-URL:https://cavecreekguide.com
X-WR-CALDESC:Events for Cave Creek Guide
REFRESH-INTERVAL;VALUE=DURATION:PT1H
X-Robots-Tag:noindex
X-PUBLISHED-TTL:PT1H
BEGIN:VTIMEZONE
TZID:America/Phoenix
BEGIN:STANDARD
TZOFFSETFROM:-0700
TZOFFSETTO:-0700
TZNAME:MST
DTSTART:20240101T000000
END:STANDARD
END:VTIMEZONE
BEGIN:VEVENT
DTSTART;TZID=America/Phoenix:20251029T170000
DTEND;TZID=America/Phoenix:20251029T200000
DTSTAMP:20260421T165624
CREATED:20251010T023339Z
LAST-MODIFIED:20251010T024254Z
UID:10000416-1761757200-1761768000@cavecreekguide.com
SUMMARY:Harold's Corral Community Fest
DESCRIPTION:Get ready! The 2nd Annual Community Fest at Harold’s Corral is back\, bringing neighbors\, nonprofits\, and local businesses together for one unforgettable night of fun and giving. For just $25\, your ticket includes Harold’s famous backyard BBQ\, plus a night filled with live music\, exciting games\, and fabulous raffles. Best of all\, every dollar raised benefits eight incredible nonprofits serving the Cave Creek and Carefree community—so you can enjoy the party while making a difference close to home!
URL:https://cavecreekguide.com/event/harolds-corral-2nd-annual-community-fest/
LOCATION:Harold’s Corral\, 6895 E Cave Creek Rd\, Cave Creek\, AZ\, 85331\, United States
END:VEVENT
END:VCALENDAR