BEGIN:VCALENDAR
VERSION:2.0
PRODID:-//Cave Creek Guide - ECPv6.15.20//NONSGML v1.0//EN
CALSCALE:GREGORIAN
METHOD:PUBLISH
X-ORIGINAL-URL:https://cavecreekguide.com
X-WR-CALDESC:Events for Cave Creek Guide
REFRESH-INTERVAL;VALUE=DURATION:PT1H
X-Robots-Tag:noindex
X-PUBLISHED-TTL:PT1H
BEGIN:VTIMEZONE
TZID:America/Phoenix
BEGIN:STANDARD
TZOFFSETFROM:-0700
TZOFFSETTO:-0700
TZNAME:MST
DTSTART:20240101T000000
END:STANDARD
END:VTIMEZONE
BEGIN:VEVENT
DTSTART;VALUE=DATE:20251031
DTEND;VALUE=DATE:20251102
DTSTAMP:20260421T165931
CREATED:20251009T172931Z
LAST-MODIFIED:20251009T172931Z
UID:10000415-1761868800-1762041599@cavecreekguide.com
SUMMARY:Turquoise Circuit ProRodeo
DESCRIPTION:Two action packed days as the Best in the Southwest battle it out for the championship buckle at the Cave Creek Memorial Area.
URL:https://cavecreekguide.com/event/turquoise-circuit-prorodeo/
LOCATION:Cave Creek Memorial Arena\, 37201 N 28th Street\, Cave Creek\, AZ\, 85331
END:VEVENT
END:VCALENDAR