BEGIN:VCALENDAR
VERSION:2.0
PRODID:-//Cave Creek Guide - ECPv6.15.20//NONSGML v1.0//EN
CALSCALE:GREGORIAN
METHOD:PUBLISH
X-WR-CALNAME:Cave Creek Guide
X-ORIGINAL-URL:https://cavecreekguide.com
X-WR-CALDESC:Events for Cave Creek Guide
REFRESH-INTERVAL;VALUE=DURATION:PT1H
X-Robots-Tag:noindex
X-PUBLISHED-TTL:PT1H
BEGIN:VTIMEZONE
TZID:America/Phoenix
BEGIN:STANDARD
TZOFFSETFROM:-0700
TZOFFSETTO:-0700
TZNAME:MST
DTSTART:20240101T000000
END:STANDARD
END:VTIMEZONE
BEGIN:VEVENT
DTSTART;TZID=America/Phoenix:20251212T170000
DTEND;TZID=America/Phoenix:20251212T200000
DTSTAMP:20260421T151453
CREATED:20250925T025827Z
LAST-MODIFIED:20250925T030504Z
UID:10000413-1765558800-1765569600@cavecreekguide.com
SUMMARY:The Golden Hour Market
DESCRIPTION:A night of community gathering \nFeaturing your favorite small businesses and local artisans \nThis event is free admission\, and we will have a raffle as well as a limited number of vendor bags!  There will be upwards of 18 unique vendors and small businesses collaborating for this magical evening. \nBehind Big Earls\n6147 E Cave Creek Rd
URL:https://cavecreekguide.com/event/the-golden-hour-market/
ATTACH;FMTTYPE=image/jpeg:https://cavecreekguide.com/wp-content/uploads/2025/09/golden-hour.jpg
END:VEVENT
END:VCALENDAR