BEGIN:VCALENDAR
VERSION:2.0
PRODID:-//Cave Creek Guide - ECPv6.15.20//NONSGML v1.0//EN
CALSCALE:GREGORIAN
METHOD:PUBLISH
X-WR-CALNAME:Cave Creek Guide
X-ORIGINAL-URL:https://cavecreekguide.com
X-WR-CALDESC:Events for Cave Creek Guide
REFRESH-INTERVAL;VALUE=DURATION:PT1H
X-Robots-Tag:noindex
X-PUBLISHED-TTL:PT1H
BEGIN:VTIMEZONE
TZID:America/Phoenix
BEGIN:STANDARD
TZOFFSETFROM:-0700
TZOFFSETTO:-0700
TZNAME:MST
DTSTART:20250101T000000
END:STANDARD
END:VTIMEZONE
BEGIN:VEVENT
DTSTART;TZID=America/Phoenix:20260320T100000
DTEND;TZID=America/Phoenix:20260322T170000
DTSTAMP:20260421T100132
CREATED:20220707T151006Z
LAST-MODIFIED:20250718T034301Z
UID:10000061-1774000800-1774198800@cavecreekguide.com
SUMMARY:Stagecoach Village Fine Art & Wine Festival
DESCRIPTION:16th Annual Stagecoach Village Fine Art & Wine Festival ~ Cave Creek\, AZ. – Stagecoach Village is a popular destination for Arts & Entertainment. Located in the heart of the affluent communities surrounding Carefree and Cave Creek\, just minutes from North Scottsdale.  Featuring over 100 jury selected Fine Artists exhibiting wide variety of media and subject matter\, Wine Tasting and Craft Beer\, Gourmet Eateries\, and live musical Entertainment.  A Free Event with Easy Parking.
URL:https://cavecreekguide.com/event/stagecoach-village-art-market/
END:VEVENT
END:VCALENDAR