BEGIN:VCALENDAR
VERSION:2.0
PRODID:-//Cave Creek Guide - ECPv6.15.20//NONSGML v1.0//EN
CALSCALE:GREGORIAN
METHOD:PUBLISH
X-WR-CALNAME:Cave Creek Guide
X-ORIGINAL-URL:https://cavecreekguide.com
X-WR-CALDESC:Events for Cave Creek Guide
REFRESH-INTERVAL;VALUE=DURATION:PT1H
X-Robots-Tag:noindex
X-PUBLISHED-TTL:PT1H
BEGIN:VTIMEZONE
TZID:America/Phoenix
BEGIN:STANDARD
TZOFFSETFROM:-0700
TZOFFSETTO:-0700
TZNAME:MST
DTSTART:20250101T000000
END:STANDARD
END:VTIMEZONE
BEGIN:VEVENT
DTSTART;VALUE=DATE:20260326
DTEND;VALUE=DATE:20260330
DTSTAMP:20260421T100307
CREATED:20210121T140848Z
LAST-MODIFIED:20251231T040818Z
UID:10000042-1774483200-1774828799@cavecreekguide.com
SUMMARY:Cave Creek Rodeo Days
DESCRIPTION:Each year\, we organize\, promote and stage the Cave Creek Rodeo Days event. \nFor over 40 years the sport of Rodeo has been alive and kicking in the Sonoran Desert.   The Cave Creek Rodeo Days consists of a Parade\, Mutton Bustin’\, Rodeo Dances\, a Golf Tournament\, three action packed PRCA Rodeo performances and more to round out a week long celebration of an Arizona town’s Western Heritage. \nWe use the proceeds of the rodeo to support charitable organizations throughout the Sonoran Desert and assisting the Town of Cave Creek with continued maintenance and enhancement of the Cave Creek Memorial Arena.  We rely heavily on the hard work of our volunteers\, the generous support of our sponsors\, the talents of our participants and the patronage of our rodeo fans from throughout the country. \n 
URL:https://cavecreekguide.com/event/cave-creek-rodeo-days/
LOCATION:Cave Creek Memorial Arena\, 37201 N 28th Street\, Cave Creek\, AZ\, 85331
ATTACH;FMTTYPE=image/jpeg:https://cavecreekguide.com/wp-content/uploads/2021/01/cave-creek-rodeo-logo.jpg
END:VEVENT
END:VCALENDAR