BEGIN:VCALENDAR
VERSION:2.0
PRODID:-//Cave Creek Guide - ECPv6.15.20//NONSGML v1.0//EN
CALSCALE:GREGORIAN
METHOD:PUBLISH
X-WR-CALNAME:Cave Creek Guide
X-ORIGINAL-URL:https://cavecreekguide.com
X-WR-CALDESC:Events for Cave Creek Guide
REFRESH-INTERVAL;VALUE=DURATION:PT1H
X-Robots-Tag:noindex
X-PUBLISHED-TTL:PT1H
BEGIN:VTIMEZONE
TZID:America/Phoenix
BEGIN:STANDARD
TZOFFSETFROM:-0700
TZOFFSETTO:-0700
TZNAME:MST
DTSTART:20250101T000000
END:STANDARD
END:VTIMEZONE
BEGIN:VEVENT
DTSTART;TZID=America/Phoenix:20261120T100000
DTEND;TZID=America/Phoenix:20261122T170000
DTSTAMP:20260421T201151
CREATED:20210115T052610Z
LAST-MODIFIED:20260327T033002Z
UID:10000037-1795168800-1795366800@cavecreekguide.com
SUMMARY:Hidden In The Hills Studio Tour - 1st weekend
DESCRIPTION:Visit dozens of artist studios in Cave Creek and surrounding area.
URL:https://cavecreekguide.com/event/hidden-in-the-hills-studio-tour-1st-weekend/
END:VEVENT
END:VCALENDAR