BEGIN:VCALENDAR
VERSION:2.0
PRODID:-//Cave Creek Guide - ECPv6.15.20//NONSGML v1.0//EN
CALSCALE:GREGORIAN
METHOD:PUBLISH
X-ORIGINAL-URL:https://cavecreekguide.com
X-WR-CALDESC:Events for Cave Creek Guide
REFRESH-INTERVAL;VALUE=DURATION:PT1H
X-Robots-Tag:noindex
X-PUBLISHED-TTL:PT1H
BEGIN:VTIMEZONE
TZID:America/Phoenix
BEGIN:STANDARD
TZOFFSETFROM:-0700
TZOFFSETTO:-0700
TZNAME:MST
DTSTART:20250101T000000
END:STANDARD
END:VTIMEZONE
BEGIN:VEVENT
DTSTART;TZID=America/Phoenix:20261219T090000
DTEND;TZID=America/Phoenix:20261219T120000
DTSTAMP:20260421T214726
CREATED:20231121T043018Z
LAST-MODIFIED:20251221T025746Z
UID:10000101-1797670800-1797681600@cavecreekguide.com
SUMMARY:Cave Creek Santa Summit
DESCRIPTION:Annual Santa Summit on Black Mountain. Meet at the intersection of Military and Schoolhouse Road at 9am. The primitive trail is 2.2 semi-rocky miles round trip. Bring water and wear appropriate shoes. We will toast the season at the summit around 11am and then descend to Local Jonny’s for some post-hike refreshments. Parking near the start will be limited. Parking available in lots downtown.
URL:https://cavecreekguide.com/event/cave-creek-santa-summit/
LOCATION:Black Mountain Parking Lot\, Military and Schoolhouse Road\, Cave Creek\, AZ\, 85331\, United States
ATTACH;FMTTYPE=image/jpeg:https://cavecreekguide.com/wp-content/uploads/2023/11/santasummit.jpg
END:VEVENT
BEGIN:VEVENT
DTSTART;TZID=America/Phoenix:20261219T183000
DTEND;TZID=America/Phoenix:20261219T193000
DTSTAMP:20260421T214726
CREATED:20241216T031413Z
LAST-MODIFIED:20251222T040320Z
UID:10000124-1797705000-1797708600@cavecreekguide.com
SUMMARY:Cave Creek Christmas Tractor Parade
DESCRIPTION:Come join us Saturday night for the Cave Creek Christmas Tractor Parade”… The line up is on Cartwright next to Harold’s Corral at 5:30…\nEveryone is welcome to decorate their ride and jump in or climb on our three hay wagons. Our route takes over to Carefree circle then back through across Cave Creek rd then we whip a huey at Local Jonny’s and back to Harold’s for Christmas celebration\, probably an hour …. Dress warm and let’s have some home town fun.
URL:https://cavecreekguide.com/event/cave-creek-christmas-tractor-parade/
END:VEVENT
END:VCALENDAR