BEGIN:VCALENDAR
VERSION:2.0
PRODID:-//Cave Creek Guide - ECPv6.15.20//NONSGML v1.0//EN
CALSCALE:GREGORIAN
METHOD:PUBLISH
X-WR-CALNAME:Cave Creek Guide
X-ORIGINAL-URL:https://cavecreekguide.com
X-WR-CALDESC:Events for Cave Creek Guide
REFRESH-INTERVAL;VALUE=DURATION:PT1H
X-Robots-Tag:noindex
X-PUBLISHED-TTL:PT1H
BEGIN:VTIMEZONE
TZID:America/Phoenix
BEGIN:STANDARD
TZOFFSETFROM:-0700
TZOFFSETTO:-0700
TZNAME:MST
DTSTART:20240101T000000
END:STANDARD
END:VTIMEZONE
BEGIN:VEVENT
DTSTART;TZID=America/Phoenix:20250201T140000
DTEND;TZID=America/Phoenix:20250202T170000
DTSTAMP:20260422T052138
CREATED:20250115T030331Z
LAST-MODIFIED:20250115T030502Z
UID:10000127-1738418400-1738515600@cavecreekguide.com
SUMMARY:Winter Rodeo Series
DESCRIPTION:The fun is back. \nTickets available online or at the gate.
URL:https://cavecreekguide.com/event/winter-rodeo-series/2025-02-01/
LOCATION:Cave Creek Memorial Arena\, 37201 N 28th Street\, Cave Creek\, AZ\, 85331
ATTACH;FMTTYPE=image/jpeg:https://cavecreekguide.com/wp-content/uploads/2025/01/Winter-Rodeo.jpg
END:VEVENT
BEGIN:VEVENT
DTSTART;TZID=America/Phoenix:20250208T140000
DTEND;TZID=America/Phoenix:20250209T170000
DTSTAMP:20260422T052139
CREATED:20250115T030331Z
LAST-MODIFIED:20250115T030502Z
UID:10000126-1739023200-1739120400@cavecreekguide.com
SUMMARY:Winter Rodeo Series
DESCRIPTION:The fun is back. \nTickets available online or at the gate.
URL:https://cavecreekguide.com/event/winter-rodeo-series/2025-02-08/
LOCATION:Cave Creek Memorial Arena\, 37201 N 28th Street\, Cave Creek\, AZ\, 85331
ATTACH;FMTTYPE=image/jpeg:https://cavecreekguide.com/wp-content/uploads/2025/01/Winter-Rodeo.jpg
END:VEVENT
END:VCALENDAR