BEGIN:VCALENDAR
VERSION:2.0
PRODID:-//Cave Creek Guide - ECPv6.15.20//NONSGML v1.0//EN
CALSCALE:GREGORIAN
METHOD:PUBLISH
X-WR-CALNAME:Cave Creek Guide
X-ORIGINAL-URL:https://cavecreekguide.com
X-WR-CALDESC:Events for Cave Creek Guide
REFRESH-INTERVAL;VALUE=DURATION:PT1H
X-Robots-Tag:noindex
X-PUBLISHED-TTL:PT1H
BEGIN:VTIMEZONE
TZID:America/Phoenix
BEGIN:STANDARD
TZOFFSETFROM:-0700
TZOFFSETTO:-0700
TZNAME:MST
DTSTART:20240101T000000
END:STANDARD
END:VTIMEZONE
BEGIN:VEVENT
DTSTART;TZID=America/Phoenix:20251206T100000
DTEND;TZID=America/Phoenix:20251206T120000
DTSTAMP:20260421T133639
CREATED:20250917T035738Z
LAST-MODIFIED:20250917T035959Z
UID:10000355-1765015200-1765022400@cavecreekguide.com
SUMMARY:Finer Arts Mimosas & Muffins
DESCRIPTION:The first Saturday of every month (even summer) we host an Art Affaire\, no admission charge\, from 10am til noon.  Mimosas & muffins will be served.  Stop by to see the fabulous art created by over 50 LOCAL artists.  Most of our artists will be there every event to speak with visitors and explain their artwork.
URL:https://cavecreekguide.com/event/finer-arts-mimosas-muffins/2025-12-06/
LOCATION:Finer Arts Gallery\, 6137 E Cave Creek Rd\, Cave Creek\, AZ\, 85331
ATTACH;FMTTYPE=image/jpeg:https://cavecreekguide.com/wp-content/uploads/2025/04/Art-Affaire2.jpg
END:VEVENT
BEGIN:VEVENT
DTSTART;TZID=America/Phoenix:20251206T170000
DTEND;TZID=America/Phoenix:20251207T020000
DTSTAMP:20260421T133639
CREATED:20231122T063532Z
LAST-MODIFIED:20251205T033056Z
UID:10000102-1765040400-1765072800@cavecreekguide.com
SUMMARY:Ugly Sweater Bar Crawl
DESCRIPTION:Cave Creek CHRISTMAS Ugly Sweater Bar Crawl\n\n\nCostume Contests * Drink Specials * Live Music\n\n\n21+\n\nGet ready to jingle all the way through Cave Creek!\n\nDon your ugliest holiday sweaters\, sip on merry cocktails\, and crawl through town spreading festive cheer.  Starting at Hansen’s\, catch a FREE party bus and make your way to 7 merry bars.\n\nEven the elves know not to drink and drive!  Book your Ubers\, Lyfts\, hotel rooms and babysitters for a sage\, unforgettable night!\n\n\n5pm Horny Road\n6pm Local Jonny’s Tavern\n7pm Big Earls Greasy Eats\n8pm Kiki Rae’s\n9pm The Hideaway\n10pm Harold’s Corral\n11pm Roadhouse\nLet’s party ugly sweater style!!
URL:https://cavecreekguide.com/event/ugly-sweater-bar-crawl/
ATTACH;FMTTYPE=image/jpeg:https://cavecreekguide.com/wp-content/uploads/2023/11/uglysweater-1.jpg
END:VEVENT
BEGIN:VEVENT
DTSTART;TZID=America/Phoenix:20251212T170000
DTEND;TZID=America/Phoenix:20251212T200000
DTSTAMP:20260421T133639
CREATED:20250925T025827Z
LAST-MODIFIED:20250925T030504Z
UID:10000413-1765558800-1765569600@cavecreekguide.com
SUMMARY:The Golden Hour Market
DESCRIPTION:A night of community gathering \nFeaturing your favorite small businesses and local artisans \nThis event is free admission\, and we will have a raffle as well as a limited number of vendor bags!  There will be upwards of 18 unique vendors and small businesses collaborating for this magical evening. \nBehind Big Earls\n6147 E Cave Creek Rd
URL:https://cavecreekguide.com/event/the-golden-hour-market/
ATTACH;FMTTYPE=image/jpeg:https://cavecreekguide.com/wp-content/uploads/2025/09/golden-hour.jpg
END:VEVENT
BEGIN:VEVENT
DTSTART;TZID=America/Phoenix:20251213T100000
DTEND;TZID=America/Phoenix:20251213T113000
DTSTAMP:20260421T133639
CREATED:20241112T025608Z
LAST-MODIFIED:20250917T030847Z
UID:10000261-1765620000-1765625400@cavecreekguide.com
SUMMARY:Cave Creek Museum - AZ Gold Mining Experience (2nd Saturday)
DESCRIPTION:Museum opens at 9:30am for event check-in\, The ARIZONA GOLD MINING EXPERIENCE begins at 10am. \nThe Cave Creek Museum’s AZ GOLD MINING EXPERIENCE is unique with its display of the complete hard rock ore extraction process\, with the mine shaft\, tramway\, ore carts\, crushing and extraction\, that are always on display\, but operated for this event.  The highlight is Arizona’s only fully operational ten-stamp ore crushing mill. The ten 1\,000 lb stamps slam down in synchronized motion to pound the ore removed from the mine into a fine gravel. The stamp mill was brought from its former location at the Golden Reef Mine on Continental Mountain to where it sits today. This is the only operational mining stamp mill in Arizona today that sits only 5 miles from its original site on the mountain. \nThe program begins with a lively recounting of Cave Creek Mining District’s heyday\, followed by a visit to the arrastre\, a primitive apparatus that pulverized ore with the power of beast or man. Hold onto your hats when the old mine blows its top! Then onto the Golden Reef Stamp Mill and Tramway\, where our highly trained and dedicated “Dream Steam” fires up the engines of the stamp mill and once again the mountainsides echoes with the crashing beat of the mechanical crusher. Watch as the tramway carries ore to be pulverized! \nThen onto the Blacksmith Shop for a demonstration of skill that was highly valued in a time where parts and tools had to be fabricated on site. Next be sure to try your luck at our Gold-panning station\, where docents will show you how to pan for ore and minerals just like the old prospectors did. Maybe you’ll strike gold! \nRemember\, your admission ($7 for adults\, children 12 & under free*) is also good for a leisurely tour of the Museum’s Historical and Archaeology collections and be sure to visit our other Outdoor Exhibits: the collection of many other articles from Cave Creek’s mining and agricultural past\, the Historic First Church\, and our TB Cabin\, which is on the National Register of Historic Places as the only known existing tubercular cabin from that era. \nGet ready to travel back in Time!\n*Due to the popularity of The AZ GOLD MINING EXPERIENCE\, we recommend pre-purchasing your tickets on line for speedier check-in. Tickets may be purchased here:
URL:https://cavecreekguide.com/event/cave-creek-museum-2-2-3/2025-12-13/
LOCATION:Cave Creek Museum\, 6140 E Skyline Drive\, Cave Creek\, AZ\, 85331\, United States
ATTACH;FMTTYPE=image/jpeg:https://cavecreekguide.com/wp-content/uploads/2021/04/stampmill.jpg
END:VEVENT
BEGIN:VEVENT
DTSTART;TZID=America/Phoenix:20251219T170000
DTEND;TZID=America/Phoenix:20251219T190000
DTSTAMP:20260421T133639
CREATED:20250411T022032Z
LAST-MODIFIED:20250917T040602Z
UID:10000143-1766163600-1766170800@cavecreekguide.com
SUMMARY:Finer Arts Art Affaire
DESCRIPTION:The third Friday of every month (even summer) we host an Art Affaire\, no admission charge\, from 5 until 7.  Refreshments are always served.  Stop by to see the fabulous art created by over 50 LOCAL artists.  Most of our artists will be there every event to speak with visitors and explain their artwork.
URL:https://cavecreekguide.com/event/finer-arts-art-affaire/2025-12-19/
LOCATION:Finer Arts Gallery\, 6137 E Cave Creek Rd\, Cave Creek\, AZ\, 85331
ATTACH;FMTTYPE=image/jpeg:https://cavecreekguide.com/wp-content/uploads/2025/04/Art-Affaire2.jpg
END:VEVENT
BEGIN:VEVENT
DTSTART;TZID=America/Phoenix:20251227T100000
DTEND;TZID=America/Phoenix:20251227T113000
DTSTAMP:20260421T133639
CREATED:20241112T025327Z
LAST-MODIFIED:20250917T032017Z
UID:10000283-1766829600-1766835000@cavecreekguide.com
SUMMARY:Cave Creek Museum - AZ Gold Mining Experience (4th Saturday)
DESCRIPTION:Museum opens at 9:30am for event check-in\, The ARIZONA GOLD MINING EXPERIENCE begins at 10am. \nThe Cave Creek Museum’s AZ GOLD MINING EXPERIENCE is unique with its display of the complete hard rock ore extraction process\, with the mine shaft\, tramway\, ore carts\, crushing and extraction\, that are always on display\, but operated for this event.  The highlight is Arizona’s only fully operational ten-stamp ore crushing mill. The ten 1\,000 lb stamps slam down in synchronized motion to pound the ore removed from the mine into a fine gravel. The stamp mill was brought from its former location at the Golden Reef Mine on Continental Mountain to where it sits today. This is the only operational mining stamp mill in Arizona today that sits only 5 miles from its original site on the mountain. \nThe program begins with a lively recounting of Cave Creek Mining District’s heyday\, followed by a visit to the arrastre\, a primitive apparatus that pulverized ore with the power of beast or man. Hold onto your hats when the old mine blows its top! Then onto the Golden Reef Stamp Mill and Tramway\, where our highly trained and dedicated “Dream Steam” fires up the engines of the stamp mill and once again the mountainsides echoes with the crashing beat of the mechanical crusher. Watch as the tramway carries ore to be pulverized! \nThen onto the Blacksmith Shop for a demonstration of skill that was highly valued in a time where parts and tools had to be fabricated on site. Next be sure to try your luck at our Gold-panning station\, where docents will show you how to pan for ore and minerals just like the old prospectors did. Maybe you’ll strike gold! \nRemember\, your admission ($15 for adults\, children 12 & under free*) is also good for a leisurely tour of the Museum’s Historical and Archaeology collections and be sure to visit our other Outdoor Exhibits: the collection of many other articles from Cave Creek’s mining and agricultural past\, the Historic First Church\, and our TB Cabin\, which is on the National Register of Historic Places as the only known existing tubercular cabin from that era. \nGet ready to travel back in Time!\n*Due to the popularity of The AZ GOLD MINING EXPERIENCE\, we recommend pre-purchasing your tickets on line for speedier check-in. Tickets may be purchased here:
URL:https://cavecreekguide.com/event/cave-creek-museum-2-2-2/2025-12-27/
LOCATION:Cave Creek Museum\, 6140 E Skyline Drive\, Cave Creek\, AZ\, 85331\, United States
ATTACH;FMTTYPE=image/jpeg:https://cavecreekguide.com/wp-content/uploads/2021/04/stampmill.jpg
END:VEVENT
END:VCALENDAR