BEGIN:VCALENDAR
VERSION:2.0
PRODID:-//Cave Creek Guide - ECPv6.15.20//NONSGML v1.0//EN
CALSCALE:GREGORIAN
METHOD:PUBLISH
X-WR-CALNAME:Cave Creek Guide
X-ORIGINAL-URL:https://cavecreekguide.com
X-WR-CALDESC:Events for Cave Creek Guide
REFRESH-INTERVAL;VALUE=DURATION:PT1H
X-Robots-Tag:noindex
X-PUBLISHED-TTL:PT1H
BEGIN:VTIMEZONE
TZID:America/Phoenix
BEGIN:STANDARD
TZOFFSETFROM:-0700
TZOFFSETTO:-0700
TZNAME:MST
DTSTART:20250101T000000
END:STANDARD
END:VTIMEZONE
BEGIN:VEVENT
DTSTART;TZID=America/Phoenix:20260103T100000
DTEND;TZID=America/Phoenix:20260103T120000
DTSTAMP:20260421T115334
CREATED:20250917T035738Z
LAST-MODIFIED:20250917T035959Z
UID:10000356-1767434400-1767441600@cavecreekguide.com
SUMMARY:Finer Arts Mimosas & Muffins
DESCRIPTION:The first Saturday of every month (even summer) we host an Art Affaire\, no admission charge\, from 10am til noon.  Mimosas & muffins will be served.  Stop by to see the fabulous art created by over 50 LOCAL artists.  Most of our artists will be there every event to speak with visitors and explain their artwork.
URL:https://cavecreekguide.com/event/finer-arts-mimosas-muffins/2026-01-03/
LOCATION:Finer Arts Gallery\, 6137 E Cave Creek Rd\, Cave Creek\, AZ\, 85331
ATTACH;FMTTYPE=image/jpeg:https://cavecreekguide.com/wp-content/uploads/2025/04/Art-Affaire2.jpg
END:VEVENT
BEGIN:VEVENT
DTSTART;TZID=America/Phoenix:20260109T100000
DTEND;TZID=America/Phoenix:20260111T170000
DTSTAMP:20260421T115334
CREATED:20220707T151436Z
LAST-MODIFIED:20251211T161303Z
UID:10000062-1767952800-1768150800@cavecreekguide.com
SUMMARY:Cave Creek Fine Art & Wine Festival
DESCRIPTION:The show features a gathering of local and regional artists exhibiting in an open-air plaza with stunning desert views. Located at the crossroads of Cave Creek and Carefree\, Stagecoach Village provides the perfect venue for outdoor festivals. Patrons Enjoy open air shopping\, patio dining\, and live musical entertainment in the unrivaled beauty of the Sonoran desert. \nStagecoach Village offers an intimate festival experience among western style architecture and panoramic mountain views. Artists are integrated throughout the center\, amidst shops\, plazas\, and botanical gardens\, offering a wide range of original and unique works\, including sculptures from the minute to life-size\, spectacular paintings\, colorful ceramics\, artisan crafted jewelry\, hand-blown glass\, woodwork\, metal and mixed media\, fine photography\, boutique style clothing\, and much more! \nDon’t miss the fun! Cave Creek\, Arizona is a popular tourist destination – the town has something for everyone! Whether you’re looking for great food\, eclectic shopping\, art galleries\, or real western saloons\, you’ll find it all in the Town of Cave Creek.
URL:https://cavecreekguide.com/event/sonoran-fine-art-wine-festival/
LOCATION:Stagecoach Village\, 7100 East Cave Creek Road\, Cave Creek\, AZ\, 85331\, United States
END:VEVENT
BEGIN:VEVENT
DTSTART;TZID=America/Phoenix:20260110T100000
DTEND;TZID=America/Phoenix:20260110T113000
DTSTAMP:20260421T115334
CREATED:20241112T025608Z
LAST-MODIFIED:20250917T030847Z
UID:10000262-1768039200-1768044600@cavecreekguide.com
SUMMARY:Cave Creek Museum - AZ Gold Mining Experience (2nd Saturday)
DESCRIPTION:Museum opens at 9:30am for event check-in\, The ARIZONA GOLD MINING EXPERIENCE begins at 10am. \nThe Cave Creek Museum’s AZ GOLD MINING EXPERIENCE is unique with its display of the complete hard rock ore extraction process\, with the mine shaft\, tramway\, ore carts\, crushing and extraction\, that are always on display\, but operated for this event.  The highlight is Arizona’s only fully operational ten-stamp ore crushing mill. The ten 1\,000 lb stamps slam down in synchronized motion to pound the ore removed from the mine into a fine gravel. The stamp mill was brought from its former location at the Golden Reef Mine on Continental Mountain to where it sits today. This is the only operational mining stamp mill in Arizona today that sits only 5 miles from its original site on the mountain. \nThe program begins with a lively recounting of Cave Creek Mining District’s heyday\, followed by a visit to the arrastre\, a primitive apparatus that pulverized ore with the power of beast or man. Hold onto your hats when the old mine blows its top! Then onto the Golden Reef Stamp Mill and Tramway\, where our highly trained and dedicated “Dream Steam” fires up the engines of the stamp mill and once again the mountainsides echoes with the crashing beat of the mechanical crusher. Watch as the tramway carries ore to be pulverized! \nThen onto the Blacksmith Shop for a demonstration of skill that was highly valued in a time where parts and tools had to be fabricated on site. Next be sure to try your luck at our Gold-panning station\, where docents will show you how to pan for ore and minerals just like the old prospectors did. Maybe you’ll strike gold! \nRemember\, your admission ($7 for adults\, children 12 & under free*) is also good for a leisurely tour of the Museum’s Historical and Archaeology collections and be sure to visit our other Outdoor Exhibits: the collection of many other articles from Cave Creek’s mining and agricultural past\, the Historic First Church\, and our TB Cabin\, which is on the National Register of Historic Places as the only known existing tubercular cabin from that era. \nGet ready to travel back in Time!\n*Due to the popularity of The AZ GOLD MINING EXPERIENCE\, we recommend pre-purchasing your tickets on line for speedier check-in. Tickets may be purchased here:
URL:https://cavecreekguide.com/event/cave-creek-museum-2-2-3/2026-01-10/
LOCATION:Cave Creek Museum\, 6140 E Skyline Drive\, Cave Creek\, AZ\, 85331\, United States
ATTACH;FMTTYPE=image/jpeg:https://cavecreekguide.com/wp-content/uploads/2021/04/stampmill.jpg
END:VEVENT
BEGIN:VEVENT
DTSTART;TZID=America/Phoenix:20260116T170000
DTEND;TZID=America/Phoenix:20260116T190000
DTSTAMP:20260421T115334
CREATED:20250411T022032Z
LAST-MODIFIED:20250917T040602Z
UID:10000144-1768582800-1768590000@cavecreekguide.com
SUMMARY:Finer Arts Art Affaire
DESCRIPTION:The third Friday of every month (even summer) we host an Art Affaire\, no admission charge\, from 5 until 7.  Refreshments are always served.  Stop by to see the fabulous art created by over 50 LOCAL artists.  Most of our artists will be there every event to speak with visitors and explain their artwork.
URL:https://cavecreekguide.com/event/finer-arts-art-affaire/2026-01-16/
LOCATION:Finer Arts Gallery\, 6137 E Cave Creek Rd\, Cave Creek\, AZ\, 85331
ATTACH;FMTTYPE=image/jpeg:https://cavecreekguide.com/wp-content/uploads/2025/04/Art-Affaire2.jpg
END:VEVENT
BEGIN:VEVENT
DTSTART;TZID=America/Phoenix:20260124T100000
DTEND;TZID=America/Phoenix:20260124T113000
DTSTAMP:20260421T115334
CREATED:20241112T025327Z
LAST-MODIFIED:20250917T032017Z
UID:10000284-1769248800-1769254200@cavecreekguide.com
SUMMARY:Cave Creek Museum - AZ Gold Mining Experience (4th Saturday)
DESCRIPTION:Museum opens at 9:30am for event check-in\, The ARIZONA GOLD MINING EXPERIENCE begins at 10am. \nThe Cave Creek Museum’s AZ GOLD MINING EXPERIENCE is unique with its display of the complete hard rock ore extraction process\, with the mine shaft\, tramway\, ore carts\, crushing and extraction\, that are always on display\, but operated for this event.  The highlight is Arizona’s only fully operational ten-stamp ore crushing mill. The ten 1\,000 lb stamps slam down in synchronized motion to pound the ore removed from the mine into a fine gravel. The stamp mill was brought from its former location at the Golden Reef Mine on Continental Mountain to where it sits today. This is the only operational mining stamp mill in Arizona today that sits only 5 miles from its original site on the mountain. \nThe program begins with a lively recounting of Cave Creek Mining District’s heyday\, followed by a visit to the arrastre\, a primitive apparatus that pulverized ore with the power of beast or man. Hold onto your hats when the old mine blows its top! Then onto the Golden Reef Stamp Mill and Tramway\, where our highly trained and dedicated “Dream Steam” fires up the engines of the stamp mill and once again the mountainsides echoes with the crashing beat of the mechanical crusher. Watch as the tramway carries ore to be pulverized! \nThen onto the Blacksmith Shop for a demonstration of skill that was highly valued in a time where parts and tools had to be fabricated on site. Next be sure to try your luck at our Gold-panning station\, where docents will show you how to pan for ore and minerals just like the old prospectors did. Maybe you’ll strike gold! \nRemember\, your admission ($15 for adults\, children 12 & under free*) is also good for a leisurely tour of the Museum’s Historical and Archaeology collections and be sure to visit our other Outdoor Exhibits: the collection of many other articles from Cave Creek’s mining and agricultural past\, the Historic First Church\, and our TB Cabin\, which is on the National Register of Historic Places as the only known existing tubercular cabin from that era. \nGet ready to travel back in Time!\n*Due to the popularity of The AZ GOLD MINING EXPERIENCE\, we recommend pre-purchasing your tickets on line for speedier check-in. Tickets may be purchased here:
URL:https://cavecreekguide.com/event/cave-creek-museum-2-2-2/2026-01-24/
LOCATION:Cave Creek Museum\, 6140 E Skyline Drive\, Cave Creek\, AZ\, 85331\, United States
ATTACH;FMTTYPE=image/jpeg:https://cavecreekguide.com/wp-content/uploads/2021/04/stampmill.jpg
END:VEVENT
END:VCALENDAR