BEGIN:VCALENDAR
VERSION:2.0
PRODID:-//Cave Creek Guide - ECPv6.15.20//NONSGML v1.0//EN
CALSCALE:GREGORIAN
METHOD:PUBLISH
X-WR-CALNAME:Cave Creek Guide
X-ORIGINAL-URL:https://cavecreekguide.com
X-WR-CALDESC:Events for Cave Creek Guide
REFRESH-INTERVAL;VALUE=DURATION:PT1H
X-Robots-Tag:noindex
X-PUBLISHED-TTL:PT1H
BEGIN:VTIMEZONE
TZID:America/Phoenix
BEGIN:STANDARD
TZOFFSETFROM:-0700
TZOFFSETTO:-0700
TZNAME:MST
DTSTART:20250101T000000
END:STANDARD
END:VTIMEZONE
BEGIN:VEVENT
DTSTART;TZID=America/Phoenix:20261205T100000
DTEND;TZID=America/Phoenix:20261205T120000
DTSTAMP:20260421T201202
CREATED:20250917T035738Z
LAST-MODIFIED:20250917T035959Z
UID:10000367-1796464800-1796472000@cavecreekguide.com
SUMMARY:Finer Arts Mimosas & Muffins
DESCRIPTION:The first Saturday of every month (even summer) we host an Art Affaire\, no admission charge\, from 10am til noon.  Mimosas & muffins will be served.  Stop by to see the fabulous art created by over 50 LOCAL artists.  Most of our artists will be there every event to speak with visitors and explain their artwork.
URL:https://cavecreekguide.com/event/finer-arts-mimosas-muffins/2026-12-05/
LOCATION:Finer Arts Gallery\, 6137 E Cave Creek Rd\, Cave Creek\, AZ\, 85331
ATTACH;FMTTYPE=image/jpeg:https://cavecreekguide.com/wp-content/uploads/2025/04/Art-Affaire2.jpg
END:VEVENT
BEGIN:VEVENT
DTSTART;TZID=America/Phoenix:20261218T170000
DTEND;TZID=America/Phoenix:20261218T190000
DTSTAMP:20260421T201202
CREATED:20250411T022032Z
LAST-MODIFIED:20250917T040602Z
UID:10000155-1797613200-1797620400@cavecreekguide.com
SUMMARY:Finer Arts Art Affaire
DESCRIPTION:The third Friday of every month (even summer) we host an Art Affaire\, no admission charge\, from 5 until 7.  Refreshments are always served.  Stop by to see the fabulous art created by over 50 LOCAL artists.  Most of our artists will be there every event to speak with visitors and explain their artwork.
URL:https://cavecreekguide.com/event/finer-arts-art-affaire/2026-12-18/
LOCATION:Finer Arts Gallery\, 6137 E Cave Creek Rd\, Cave Creek\, AZ\, 85331
ATTACH;FMTTYPE=image/jpeg:https://cavecreekguide.com/wp-content/uploads/2025/04/Art-Affaire2.jpg
END:VEVENT
BEGIN:VEVENT
DTSTART;TZID=America/Phoenix:20261218T180000
DTEND;TZID=America/Phoenix:20261218T210000
DTSTAMP:20260421T201202
CREATED:20251012T025901Z
LAST-MODIFIED:20260327T032749Z
UID:10000418-1797616800-1797627600@cavecreekguide.com
SUMMARY:Luminaria Walk at Harmony Hollow
DESCRIPTION:Luminaria Walk at Harmony Hollow\nDate: Friday\, December 18\, 2026\nTime: 6pm to 9pm \nCelebrate the magic of the holiday season with a serene self-guided Luminaria Walk through the stunning historic Harmony Hollow.  As twilight falls\, the trail will be softly illuminated by glowing luminarias\, creating an enchanting ambiance perfect for quiet reflection and festive cheer. \nThe walk spans approximately 1 mile\, featuring gentle elevation changes and some rocky terrain—be sure to wear sturdy shoes and dress appropriately for an outdoor evening adventure. Wander at your own pace along the softly lit path\, immersing yourself in the desert’s peaceful beauty. For added visibility\, bring a flashlight\, but please avoid headlamps to maintain the tranquil experience for all walkers. \nThere will be free hot chocolate and cookies. \nThere is no charge for this event but donations to the Desert Foothills Land Trust will be happily accepted. \nMeet at the Spur Cross Conservation Area parking lot.
URL:https://cavecreekguide.com/event/cave-creek-luminary-hike/
ATTACH;FMTTYPE=image/jpeg:https://cavecreekguide.com/wp-content/uploads/2025/10/luminaries-scaled.jpg
END:VEVENT
BEGIN:VEVENT
DTSTART;TZID=America/Phoenix:20261219T090000
DTEND;TZID=America/Phoenix:20261219T120000
DTSTAMP:20260421T201202
CREATED:20231121T043018Z
LAST-MODIFIED:20251221T025746Z
UID:10000101-1797670800-1797681600@cavecreekguide.com
SUMMARY:Cave Creek Santa Summit
DESCRIPTION:Annual Santa Summit on Black Mountain. Meet at the intersection of Military and Schoolhouse Road at 9am. The primitive trail is 2.2 semi-rocky miles round trip. Bring water and wear appropriate shoes. We will toast the season at the summit around 11am and then descend to Local Jonny’s for some post-hike refreshments. Parking near the start will be limited. Parking available in lots downtown.
URL:https://cavecreekguide.com/event/cave-creek-santa-summit/
LOCATION:Black Mountain Parking Lot\, Military and Schoolhouse Road\, Cave Creek\, AZ\, 85331\, United States
ATTACH;FMTTYPE=image/jpeg:https://cavecreekguide.com/wp-content/uploads/2023/11/santasummit.jpg
END:VEVENT
BEGIN:VEVENT
DTSTART;TZID=America/Phoenix:20261219T183000
DTEND;TZID=America/Phoenix:20261219T193000
DTSTAMP:20260421T201202
CREATED:20241216T031413Z
LAST-MODIFIED:20251222T040320Z
UID:10000124-1797705000-1797708600@cavecreekguide.com
SUMMARY:Cave Creek Christmas Tractor Parade
DESCRIPTION:Come join us Saturday night for the Cave Creek Christmas Tractor Parade”… The line up is on Cartwright next to Harold’s Corral at 5:30…\nEveryone is welcome to decorate their ride and jump in or climb on our three hay wagons. Our route takes over to Carefree circle then back through across Cave Creek rd then we whip a huey at Local Jonny’s and back to Harold’s for Christmas celebration\, probably an hour …. Dress warm and let’s have some home town fun.
URL:https://cavecreekguide.com/event/cave-creek-christmas-tractor-parade/
END:VEVENT
END:VCALENDAR