BEGIN:VCALENDAR
VERSION:2.0
PRODID:-//Cave Creek Guide - ECPv6.15.20//NONSGML v1.0//EN
CALSCALE:GREGORIAN
METHOD:PUBLISH
X-ORIGINAL-URL:https://cavecreekguide.com
X-WR-CALDESC:Events for Cave Creek Guide
REFRESH-INTERVAL;VALUE=DURATION:PT1H
X-Robots-Tag:noindex
X-PUBLISHED-TTL:PT1H
BEGIN:VTIMEZONE
TZID:America/Phoenix
BEGIN:STANDARD
TZOFFSETFROM:-0700
TZOFFSETTO:-0700
TZNAME:MST
DTSTART:20230101T000000
END:STANDARD
END:VTIMEZONE
BEGIN:VEVENT
DTSTART;TZID=America/Phoenix:20241018T080000
DTEND;TZID=America/Phoenix:20241020T220000
DTSTAMP:20260421T221242
CREATED:20240611T161621Z
LAST-MODIFIED:20240611T163307Z
UID:10000106-1729238400-1729461600@cavecreekguide.com
SUMMARY:Biketoberally
DESCRIPTION:Roadhouse & Hideaway
URL:https://cavecreekguide.com/event/biketoberally/
LOCATION:Roadhouse\, 6746 E Cave Creek Rd\, Cave Creek\, 85331\, United States
END:VEVENT
END:VCALENDAR